BEGIN:VCALENDAR
VERSION:2.0
PRODID:Imitheme.com 
BEGIN:VEVENT
UID:20260424T1755142019434540
DTSTAMP;TZID=UTC:2026-04-24 17:55:14
DTSTART;TZID=America/Los_Angeles:20260424T175514
DTEND;TZID=America/Los_Angeles:20260424T175514
SUMMARY:Carpenters Christmas Once More
LOCATION:1840 W 76 Country Blvd\, Branson\, MO 65616\, United States
DESCRIPTION:
URL:https://www.buybransondirect.com/eventer/carpenters-christmas-once-more-56/
END:VEVENT
END:VCALENDAR
