BEGIN:VCALENDAR
VERSION:2.0
PRODID:Imitheme.com 
BEGIN:VEVENT
UID:20260424T1144241171246017
DTSTAMP;TZID=UTC:2026-04-24 11:44:24
DTSTART;TZID=America/Los_Angeles:20260424T114424
DTEND;TZID=America/Los_Angeles:20260424T114424
SUMMARY:Carpenters Christmas Once More
LOCATION:1840 W 76 Country Blvd\, Branson\, MO 65616\, United States
DESCRIPTION:
URL:https://www.buybransondirect.com/eventer/carpenters-christmas-once-more-52/
END:VEVENT
END:VCALENDAR
