BEGIN:VCALENDAR
VERSION:2.0
PRODID:Imitheme.com 
BEGIN:VEVENT
UID:20260424T1001041219612338
DTSTAMP;TZID=UTC:2026-04-24 10:01:04
DTSTART;TZID=America/Los_Angeles:20260424T100104
DTEND;TZID=America/Los_Angeles:20260424T100104
SUMMARY:Carpenters Once More
LOCATION:1840 W 76 Country Blvd\, Branson\, MO 65616\, United States
DESCRIPTION:
URL:https://www.buybransondirect.com/eventer/carpenters-once-more-51/
END:VEVENT
END:VCALENDAR
