BEGIN:VCALENDAR
VERSION:2.0
PRODID:Imitheme.com 
BEGIN:VEVENT
UID:20260424T0957212125360404
DTSTAMP;TZID=UTC:2026-04-24 09:57:21
DTSTART;TZID=America/Los_Angeles:20260424T095721
DTEND;TZID=America/Los_Angeles:20260424T095721
SUMMARY:Carpenters Once More
LOCATION:1840 W 76 Country Blvd\, Branson\, MO 65616\, United States
DESCRIPTION:
URL:https://www.buybransondirect.com/eventer/carpenters-once-more-47/
END:VEVENT
END:VCALENDAR
