BEGIN:VCALENDAR
VERSION:2.0
PRODID:Imitheme.com 
BEGIN:VEVENT
UID:20260423T103747545972292
DTSTAMP;TZID=UTC:2026-04-23 10:37:47
DTSTART;TZID=America/Los_Angeles:20260423T103747
DTEND;TZID=America/Los_Angeles:20260423T103747
SUMMARY:A Neil Diamond Tribute
LOCATION:1840 W 76 Country Blvd\, Branson\, MO 65616\, United States
DESCRIPTION:
URL:https://www.buybransondirect.com/eventer/a-neil-diamond-tribute-68/
END:VEVENT
END:VCALENDAR
