BEGIN:VCALENDAR
VERSION:2.0
PRODID:Imitheme.com 
BEGIN:VEVENT
UID:20260424T0703481709784223
DTSTAMP;TZID=UTC:2026-04-24 07:03:48
DTSTART;TZID=America/Los_Angeles:20260424T070348
DTEND;TZID=America/Los_Angeles:20260424T070348
SUMMARY:Carpenters Once More
LOCATION:1840 W 76 Country Blvd\, Branson\, MO 65616\, United States
DESCRIPTION:
URL:https://www.buybransondirect.com/eventer/carpenters-once-more-49/
END:VEVENT
END:VCALENDAR
