BEGIN:VCALENDAR
VERSION:2.0
PRODID:Imitheme.com 
BEGIN:VEVENT
UID:20260424T08435429937391
DTSTAMP;TZID=UTC:2026-04-24 08:43:54
DTSTART;TZID=America/Los_Angeles:20260424T084354
DTEND;TZID=America/Los_Angeles:20260424T084354
SUMMARY:Carpenters Once More
LOCATION:1840 W 76 Country Blvd\, Branson\, MO 65616\, United States
DESCRIPTION:
URL:https://www.buybransondirect.com/eventer/carpenters-once-more-48/
END:VEVENT
END:VCALENDAR
