BEGIN:VCALENDAR
VERSION:2.0
PRODID:Imitheme.com 
BEGIN:VEVENT
UID:20260423T1411361317372828
DTSTAMP;TZID=UTC:2026-04-23 14:11:36
DTSTART;TZID=America/Los_Angeles:20260423T141136
DTEND;TZID=America/Los_Angeles:20260423T141136
SUMMARY:A Neil Diamond Tribute
LOCATION:1840 W 76 Country Blvd\, Branson\, MO 65616\, United States
DESCRIPTION:
URL:https://www.buybransondirect.com/eventer/a-neil-diamond-tribute-66/
END:VEVENT
END:VCALENDAR
