BEGIN:VCALENDAR
VERSION:2.0
PRODID:Imitheme.com 
BEGIN:VEVENT
UID:20260421T0723491962664205
DTSTAMP;TZID=UTC:2026-04-21 07:23:49
DTSTART;TZID=America/Los_Angeles:20260421T072349
DTEND;TZID=America/Los_Angeles:20260421T072349
SUMMARY:A Neil Diamond Tribute
LOCATION:1840 W 76 Country Blvd\, Branson\, MO 65616\, United States
DESCRIPTION:
URL:https://www.buybransondirect.com/eventer/a-neil-diamond-tribute-55/
END:VEVENT
END:VCALENDAR
