BEGIN:VCALENDAR
VERSION:2.0
PRODID:Imitheme.com 
BEGIN:VEVENT
UID:20260421T0256401473229178
DTSTAMP;TZID=UTC:2026-04-21 02:56:40
DTSTART;TZID=America/Los_Angeles:20260421T025640
DTEND;TZID=America/Los_Angeles:20260421T025640
SUMMARY:Carpenters Once More
LOCATION:1840 W 76 Country Blvd\, Branson\, MO 65616\, United States
DESCRIPTION:
URL:https://www.buybransondirect.com/eventer/carpenters-once-more-54/
END:VEVENT
END:VCALENDAR
