BEGIN:VCALENDAR
VERSION:2.0
PRODID:Imitheme.com 
BEGIN:VEVENT
UID:20260425T1118231093664210
DTSTAMP;TZID=UTC:2026-04-25 11:18:23
DTSTART;TZID=America/Los_Angeles:20260425T111823
DTEND;TZID=America/Los_Angeles:20260425T111823
SUMMARY:A Neil Diamond Tribute
LOCATION:1840 W 76 Country Blvd\, Branson\, MO 65616\, United States
DESCRIPTION:
URL:https://www.buybransondirect.com/eventer/a-neil-diamond-tribute-49/
END:VEVENT
END:VCALENDAR
