BEGIN:VCALENDAR
VERSION:2.0
PRODID:Imitheme.com 
BEGIN:VEVENT
UID:20260424T2039192073226619
DTSTAMP;TZID=UTC:2026-04-24 20:39:19
DTSTART;TZID=America/Los_Angeles:20260424T203919
DTEND;TZID=America/Los_Angeles:20260424T203919
SUMMARY:A Neil Diamond Tribute
LOCATION:1840 W 76 Country Blvd\, Branson\, MO 65616\, United States
DESCRIPTION:
URL:https://www.buybransondirect.com/eventer/a-neil-diamond-tribute-48/
END:VEVENT
END:VCALENDAR
