BEGIN:VCALENDAR
VERSION:2.0
PRODID:Imitheme.com 
BEGIN:VEVENT
UID:20260424T1255431724963382
DTSTAMP;TZID=UTC:2026-04-24 12:55:43
DTSTART;TZID=America/Los_Angeles:20260424T125543
DTEND;TZID=America/Los_Angeles:20260424T125543
SUMMARY:A Neil Diamond Tribute
LOCATION:1840 W 76 Country Blvd\, Branson\, MO 65616\, United States
DESCRIPTION:
URL:https://www.buybransondirect.com/eventer/a-neil-diamond-tribute-43/
END:VEVENT
END:VCALENDAR
