BEGIN:VCALENDAR
VERSION:2.0
PRODID:Imitheme.com 
BEGIN:VEVENT
UID:20260424T1719501618573322
DTSTAMP;TZID=UTC:2026-04-24 17:19:50
DTSTART;TZID=America/Los_Angeles:20260424T171950
DTEND;TZID=America/Los_Angeles:20260424T171950
SUMMARY:A Neil Diamond Tribute
LOCATION:1840 W 76 Country Blvd\, Branson\, MO 65616\, United States
DESCRIPTION:
URL:https://www.buybransondirect.com/eventer/a-neil-diamond-tribute-40/
END:VEVENT
END:VCALENDAR
