BEGIN:VCALENDAR
VERSION:2.0
PRODID:Imitheme.com 
BEGIN:VEVENT
UID:20260423T231004295636893
DTSTAMP;TZID=UTC:2026-04-23 23:10:04
DTSTART;TZID=America/Los_Angeles:20260423T231004
DTEND;TZID=America/Los_Angeles:20260423T231004
SUMMARY:Carpenters Christmas Once More
LOCATION:1840 W 76 Country Blvd\, Branson\, MO 65616\, United States
DESCRIPTION:
URL:https://www.buybransondirect.com/eventer/carpenters-christmas-once-more-4/
END:VEVENT
END:VCALENDAR
