BEGIN:VCALENDAR
VERSION:2.0
PRODID:Imitheme.com 
BEGIN:VEVENT
UID:20260424T0050331890033026
DTSTAMP;TZID=UTC:2026-04-24 00:50:33
DTSTART;TZID=America/Los_Angeles:20260424T005033
DTEND;TZID=America/Los_Angeles:20260424T005033
SUMMARY:Carpenters Christmas Once More
LOCATION:1840 W 76 Country Blvd\, Branson\, MO 65616\, United States
DESCRIPTION:
URL:https://www.buybransondirect.com/eventer/carpenters-christmas-once-more-5/
END:VEVENT
END:VCALENDAR
