BEGIN:VCALENDAR
VERSION:2.0
PRODID:Imitheme.com 
BEGIN:VEVENT
UID:20260422T1120541164036327
DTSTAMP;TZID=UTC:2026-04-22 11:20:54
DTSTART;TZID=America/Los_Angeles:20260422T112054
DTEND;TZID=America/Los_Angeles:20260422T112054
SUMMARY:A Neil Diamond Tribute
LOCATION:1840 W 76 Country Blvd\, Branson\, MO 65616\, United States
DESCRIPTION:
URL:https://www.buybransondirect.com/eventer/a-neil-diamond-tribute-25/
END:VEVENT
END:VCALENDAR
