BEGIN:VCALENDAR
VERSION:2.0
PRODID:Imitheme.com 
BEGIN:VEVENT
UID:20260423T1801551820404054
DTSTAMP;TZID=UTC:2026-04-23 18:01:55
DTSTART;TZID=America/Los_Angeles:20260423T180155
DTEND;TZID=America/Los_Angeles:20260423T180155
SUMMARY:Carpenters Christmas Once More
LOCATION:1840 W 76 Country Blvd\, Branson\, MO 65616\, United States
DESCRIPTION:
URL:https://www.buybransondirect.com/eventer/carpenters-christmas-once-more/
END:VEVENT
END:VCALENDAR
