BEGIN:VCALENDAR
VERSION:2.0
PRODID:Imitheme.com 
BEGIN:VEVENT
UID:20260422T1612011458937634
DTSTAMP;TZID=UTC:2026-04-22 16:12:01
DTSTART;TZID=America/Los_Angeles:20260422T161201
DTEND;TZID=America/Los_Angeles:20260422T161201
SUMMARY:A Neil Diamond Tribute
LOCATION:1840 W 76 Country Blvd\, Branson\, MO 65616\, United States
DESCRIPTION:
URL:https://www.buybransondirect.com/eventer/a-neil-diamond-tribute-28/
END:VEVENT
END:VCALENDAR
