BEGIN:VCALENDAR
VERSION:2.0
PRODID:Imitheme.com 
BEGIN:VEVENT
UID:20260425T093514179344542
DTSTAMP;TZID=UTC:2026-04-25 09:35:14
DTSTART;TZID=America/Los_Angeles:20260425T093514
DTEND;TZID=America/Los_Angeles:20260425T093514
SUMMARY:Elvis My Way
LOCATION:158 Pointe Royale Dr\, Branson\, MO 65616\, United States
DESCRIPTION:
URL:https://www.buybransondirect.com/eventer/elvis-my-way-11/
END:VEVENT
END:VCALENDAR
