BEGIN:VCALENDAR
VERSION:2.0
PRODID:Imitheme.com 
BEGIN:VEVENT
UID:20260423T143722342462154
DTSTAMP;TZID=UTC:2026-04-23 14:37:22
DTSTART;TZID=America/Los_Angeles:20260423T143722
DTEND;TZID=America/Los_Angeles:20260423T143722
SUMMARY:Carpenters Once More
LOCATION:1840 W 76 Country Blvd\, Branson\, MO 65616\, United States
DESCRIPTION:
URL:https://www.buybransondirect.com/eventer/carpenters-once-more-23/
END:VEVENT
END:VCALENDAR
