BEGIN:VCALENDAR
VERSION:2.0
PRODID:Imitheme.com 
BEGIN:VEVENT
UID:20260425T054732125713472
DTSTAMP;TZID=UTC:2026-04-25 05:47:32
DTSTART;TZID=America/Los_Angeles:20260425T054732
DTEND;TZID=America/Los_Angeles:20260425T054732
SUMMARY:Elvis My Way
LOCATION:158 Pointe Royale Dr\, Branson\, MO 65616\, United States
DESCRIPTION:
URL:https://www.buybransondirect.com/eventer/elvis-my-way-9/
END:VEVENT
END:VCALENDAR
