BEGIN:VCALENDAR
VERSION:2.0
PRODID:Imitheme.com 
BEGIN:VEVENT
UID:20260422T0158191186883757
DTSTAMP;TZID=UTC:2026-04-22 01:58:19
DTSTART;TZID=America/Los_Angeles:20260422T015819
DTEND;TZID=America/Los_Angeles:20260422T015819
SUMMARY:A Neil Diamond Tribute
LOCATION:1840 W 76 Country Blvd\, Branson\, MO 65616\, United States
DESCRIPTION:
URL:https://www.buybransondirect.com/eventer/a-neil-diamond-tribute-19/
END:VEVENT
END:VCALENDAR
