BEGIN:VCALENDAR
VERSION:2.0
PRODID:Imitheme.com 
BEGIN:VEVENT
UID:20260425T073129900556166
DTSTAMP;TZID=UTC:2026-04-25 07:31:29
DTSTART;TZID=America/Los_Angeles:20260425T073129
DTEND;TZID=America/Los_Angeles:20260425T073129
SUMMARY:Elvis My Way
LOCATION:158 Pointe Royale Dr\, Branson\, MO 65616\, United States
DESCRIPTION:
URL:https://www.buybransondirect.com/eventer/elvis-my-way-10/
END:VEVENT
END:VCALENDAR
