BEGIN:VCALENDAR
VERSION:2.0
PRODID:Imitheme.com 
BEGIN:VEVENT
UID:20260423T182253891455774
DTSTAMP;TZID=UTC:2026-04-23 18:22:53
DTSTART;TZID=America/Los_Angeles:20260423T182253
DTEND;TZID=America/Los_Angeles:20260423T182253
SUMMARY:Carpenters Once More
LOCATION:1840 W 76 Country Blvd\, Branson\, MO 65616\, United States
DESCRIPTION:
URL:https://www.buybransondirect.com/eventer/carpenters-once-more-21/
END:VEVENT
END:VCALENDAR
