BEGIN:VCALENDAR
VERSION:2.0
PRODID:Imitheme.com 
BEGIN:VEVENT
UID:20260422T0015161537196373
DTSTAMP;TZID=UTC:2026-04-22 00:15:16
DTSTART;TZID=America/Los_Angeles:20260422T001516
DTEND;TZID=America/Los_Angeles:20260422T001516
SUMMARY:A Neil Diamond Tribute
LOCATION:1840 W 76 Country Blvd\, Branson\, MO 65616\, United States
DESCRIPTION:
URL:https://www.buybransondirect.com/eventer/a-neil-diamond-tribute-18/
END:VEVENT
END:VCALENDAR
