BEGIN:VCALENDAR
VERSION:2.0
PRODID:Imitheme.com 
BEGIN:VEVENT
UID:20260421T1556531759893672
DTSTAMP;TZID=UTC:2026-04-21 15:56:53
DTSTART;TZID=America/Los_Angeles:20260421T155653
DTEND;TZID=America/Los_Angeles:20260421T155653
SUMMARY:A Neil Diamond Tribute
LOCATION:1840 W 76 Country Blvd\, Branson\, MO 65616\, United States
DESCRIPTION:
URL:https://www.buybransondirect.com/eventer/a-neil-diamond-tribute-13/
END:VEVENT
END:VCALENDAR
